BEGIN:VCALENDAR
VERSION:2.0
PRODID:-//Heinens//Events Calendar//EN
CALSCALE:GREGORIAN
METHOD:PUBLISH
BEGIN:VEVENT
UID:69e7b9bd44849@www.heinens.com
DTSTAMP:20260421T215405Z
DTSTART:20260422T210000Z
DTEND:20260422T230000Z
SUMMARY:Wine Wednesday: Mary Taylor Wines
DESCRIPTION:Join Wes from Cutting Edge for a tasting featuring Mary Taylor Wines\, including selections from France and Italy.\n\nWes will guide guests through the wines and share information about the producers and regions represented.\nSample fee: $1 per pour. No entrance fee. | Questions? Call Heinen’s Downtown Cleveland at (216) 302-3020.
LOCATION:Downtown Cleveland Heinens - 900 Euclid Avenue Cleveland OH 44115
URL:https://www.heinens.com/event/wine-wednesday-in-the-rotunda-mary-taylor-favorites/
END:VEVENT
END:VCALENDAR
