BEGIN:VCALENDAR
VERSION:2.0
PRODID:-//Heinens//Events Calendar//EN
CALSCALE:GREGORIAN
METHOD:PUBLISH
BEGIN:VEVENT
UID:69e928c852f30@www.heinens.com
DTSTAMP:20260423T000008Z
DTSTART:20260423T203000Z
DTEND:20260423T223000Z
SUMMARY:East Asia Wine &#038\; Sake: A Road Less Traveled Wine Event
DESCRIPTION:What does SMV on the back of a sake bottle mean?" "Is Japanese cuisine the only food to appropriately pair with sake?"... Come de-mystify these questions and more as we taste our way through the complex and diverse expressions of this popular Japanese beverage.\n\nIncluded in this tasting are 5 sakes bookended by 2 preparations of Hakutsuru Plum Wine. We will craft unique pairings for each tasting in collaboration with our Cheese\, Produce\, and Sushi departments to show the infinite ways sake can complement a variety of cuisines.\n\nFeatured at this event:\n· Hakutsuru Plum Wine Spritz\n· Kibo Junmai\n· Hakutsuru Junmai Daiginjo Sho-Une\n· Sakemoto "Infinite Spirit" Junmai\n· Yoshi-No-Gawa Junmai Ginjo "Winter Warrior"\n· Hakutsuru Junmai Nigori Sayuri\n· Hakutsuru Plum Wine (Umeshu)\n\n$10 entrance fee required | Questions? Please contact Heinen's Strongsville\, Ohio (440) 238-9491.
LOCATION:Strongsville Heinens - 18300 Royalton Road Strongsville OH 44136
URL:https://www.heinens.com/event/east-asia-wine-sake-a-road-less-traveled-wine-event/
END:VEVENT
END:VCALENDAR
